BEGIN:VCALENDAR
VERSION:2.0
PRODID:-//Beth Zink Art - ECPv6.15.20//NONSGML v1.0//EN
CALSCALE:GREGORIAN
METHOD:PUBLISH
X-ORIGINAL-URL:https://bethzinkart.com
X-WR-CALDESC:Events for Beth Zink Art
REFRESH-INTERVAL;VALUE=DURATION:PT1H
X-Robots-Tag:noindex
X-PUBLISHED-TTL:PT1H
BEGIN:VTIMEZONE
TZID:America/Phoenix
BEGIN:STANDARD
TZOFFSETFROM:-0700
TZOFFSETTO:-0700
TZNAME:MST
DTSTART:20200101T000000
END:STANDARD
END:VTIMEZONE
BEGIN:VEVENT
DTSTART;VALUE=DATE:20230114
DTEND;VALUE=DATE:20230327
DTSTAMP:20260424T185933
CREATED:20211019T175959Z
LAST-MODIFIED:20220824T214204Z
UID:10000022-1673654400-1679875199@bethzinkart.com
SUMMARY:Celebration of Fine Art\, Studio #209
DESCRIPTION:January 14\, 2023 – March 26\, 2023\n10am – 6pm DAILY\nFor over 30 years\, the Celebration of Fine Art has brought art lovers and artists together to share their love of art. This juried\, invitational show features 40\,000 square feet of working studios and works of art by 100 renowned and emerging artists from across the country. \nThe Celebration of Fine Art is located in the “big white tents” in the heart of beautiful Scottsdale\, Arizona on the southwest corner of Hayden Road and the Loop 101 at 18400 N Hayden Road. \n\nThere is a Café\, restrooms and plenty of free parking on site.\nTickets: $10 for adults and $8 for seniors and military. Children under 12 are admitted at no charge.\nYour Celebration of Fine Art ticket is a season pass\, good for the duration of the 10-week show and sale.
URL:https://bethzinkart.com/event/celebration-of-fine-art/
LOCATION:Big White Tents in North Scottsdale\, 18400 N Hayden Rd\, Scottsdale\, 85255
ATTACH;FMTTYPE=image/jpeg:https://bethzinkart.com/wp-content/uploads/2020/10/beth-zink-art-studio.jpg
ORGANIZER;CN="Beth Zink":MAILTO:beth@bethzinkart.com
END:VEVENT
BEGIN:VEVENT
DTSTART;TZID=America/Phoenix:20211018T090000
DTEND;TZID=America/Phoenix:20220531T160000
DTSTAMP:20260424T185933
CREATED:20210301T214855Z
LAST-MODIFIED:20211019T174640Z
UID:10000020-1634547600-1654012800@bethzinkart.com
SUMMARY:Weekly Painting Classes in Cave Creek
DESCRIPTION:Weekly through May 2022\nMondays: 9:00am – 12:00pm OR 1:00pm – 4:00pm\nPrice: $175.00 for 5 classes\nAll classes are packaged in a series of five\, but attendance need not be sequential. Students bring their own supplies\, and work on the subject matter of their own choice. Beth provides constructive criticism and painting demonstrations. \nBeth Zink Studio\n33444 N 55th St\nCave Creek\, AZ 85331 \n(480) 980-3848 \nWe Follow CDC Guidelines! \nSIGN-UP FOR WEEKLY CAVE CREEK PAINTING CLASSES
URL:https://bethzinkart.com/event/weekly-painting-classes-in-cave-creek/
LOCATION:Beth Zink Studio\, 33444 N 55th St\, Cave Creek\, AZ\, 85331\, United States
CATEGORIES:Painting Class - 5 Days
ATTACH;FMTTYPE=image/jpeg:https://bethzinkart.com/wp-content/uploads/2020/04/beth-zink-painting.jpg
ORGANIZER;CN="Beth Zink":MAILTO:beth@bethzinkart.com
END:VEVENT
END:VCALENDAR