BEGIN:VCALENDAR
VERSION:2.0
PRODID:-//Beth Zink Art - ECPv6.15.20//NONSGML v1.0//EN
CALSCALE:GREGORIAN
METHOD:PUBLISH
X-WR-CALNAME:Beth Zink Art
X-ORIGINAL-URL:https://bethzinkart.com
X-WR-CALDESC:Events for Beth Zink Art
REFRESH-INTERVAL;VALUE=DURATION:PT1H
X-Robots-Tag:noindex
X-PUBLISHED-TTL:PT1H
BEGIN:VTIMEZONE
TZID:America/Phoenix
BEGIN:STANDARD
TZOFFSETFROM:-0700
TZOFFSETTO:-0700
TZNAME:MST
DTSTART:20250101T000000
END:STANDARD
END:VTIMEZONE
BEGIN:VEVENT
DTSTART;TZID=America/Phoenix:20260509T100000
DTEND;TZID=America/Phoenix:20260509T160000
DTSTAMP:20260424T185035
CREATED:20251120T002823Z
LAST-MODIFIED:20251120T003038Z
UID:10000102-1778320800-1778342400@bethzinkart.com
SUMMARY:Spring STUDIO Open House
DESCRIPTION:Visit our SPRING Open House! \nSaturday and Sunday\, May 9 & 10\, 2026 \n10:00 am – 4:00 pm \nBeth and her fabulous guest artists will be exhibiting their artwork\, and describing their creative process. \nBeverages and snacks will be provided. Daily drawings for Raffle Prizes.
URL:https://bethzinkart.com/event/holiday-open-house-2/2026-05-09/
LOCATION:Beth Zink Studio\, 33444 N 55th St\, Cave Creek\, AZ\, 85331\, United States
ATTACH;FMTTYPE=image/jpeg:https://bethzinkart.com/wp-content/uploads/2020/04/beth-zink-art-studio-cave-creek.jpg
ORGANIZER;CN="Beth Zink":MAILTO:beth@bethzinkart.com
END:VEVENT
BEGIN:VEVENT
DTSTART;TZID=America/Phoenix:20260510T100000
DTEND;TZID=America/Phoenix:20260510T160000
DTSTAMP:20260424T185035
CREATED:20251120T002823Z
LAST-MODIFIED:20251120T003038Z
UID:10000103-1778407200-1778428800@bethzinkart.com
SUMMARY:Spring STUDIO Open House
DESCRIPTION:Visit our SPRING Open House! \nSaturday and Sunday\, May 9 & 10\, 2026 \n10:00 am – 4:00 pm \nBeth and her fabulous guest artists will be exhibiting their artwork\, and describing their creative process. \nBeverages and snacks will be provided. Daily drawings for Raffle Prizes.
URL:https://bethzinkart.com/event/holiday-open-house-2/2026-05-10/
LOCATION:Beth Zink Studio\, 33444 N 55th St\, Cave Creek\, AZ\, 85331\, United States
ATTACH;FMTTYPE=image/jpeg:https://bethzinkart.com/wp-content/uploads/2020/04/beth-zink-art-studio-cave-creek.jpg
ORGANIZER;CN="Beth Zink":MAILTO:beth@bethzinkart.com
END:VEVENT
BEGIN:VEVENT
DTSTART;TZID=America/Phoenix:20261024T100000
DTEND;TZID=America/Phoenix:20261024T160000
DTSTAMP:20260424T185035
CREATED:20251120T002955Z
LAST-MODIFIED:20251120T002955Z
UID:10000106-1792836000-1792857600@bethzinkart.com
SUMMARY:Fall STUDIO Open House
DESCRIPTION:Visit our FALL Open House! \nSaturday and Sunday\, October 24 & 25\, 2026 \n10:00 am – 4:00 pm \nBeth and her fabulous guest artists will be exhibiting their artwork\, and describing their creative process. \nBeverages and snacks will be provided. Daily drawings for Raffle Prizes.
URL:https://bethzinkart.com/event/holiday-open-house-2-2/2026-10-24/
LOCATION:Beth Zink Studio\, 33444 N 55th St\, Cave Creek\, AZ\, 85331\, United States
ATTACH;FMTTYPE=image/jpeg:https://bethzinkart.com/wp-content/uploads/2020/04/beth-zink-art-studio-cave-creek.jpg
ORGANIZER;CN="Beth Zink":MAILTO:beth@bethzinkart.com
END:VEVENT
BEGIN:VEVENT
DTSTART;TZID=America/Phoenix:20261025T100000
DTEND;TZID=America/Phoenix:20261025T160000
DTSTAMP:20260424T185035
CREATED:20251120T002955Z
LAST-MODIFIED:20251120T002955Z
UID:10000107-1792922400-1792944000@bethzinkart.com
SUMMARY:Fall STUDIO Open House
DESCRIPTION:Visit our FALL Open House! \nSaturday and Sunday\, October 24 & 25\, 2026 \n10:00 am – 4:00 pm \nBeth and her fabulous guest artists will be exhibiting their artwork\, and describing their creative process. \nBeverages and snacks will be provided. Daily drawings for Raffle Prizes.
URL:https://bethzinkart.com/event/holiday-open-house-2-2/2026-10-25/
LOCATION:Beth Zink Studio\, 33444 N 55th St\, Cave Creek\, AZ\, 85331\, United States
ATTACH;FMTTYPE=image/jpeg:https://bethzinkart.com/wp-content/uploads/2020/04/beth-zink-art-studio-cave-creek.jpg
ORGANIZER;CN="Beth Zink":MAILTO:beth@bethzinkart.com
END:VEVENT
END:VCALENDAR